BEGIN:VCALENDAR
VERSION:2.0
PRODID:-//Brain Wave - ECPv6.15.13.1//NONSGML v1.0//EN
CALSCALE:GREGORIAN
METHOD:PUBLISH
X-WR-CALNAME:Brain Wave
X-ORIGINAL-URL:https://msazzadali.com
X-WR-CALDESC:Events for Brain Wave
REFRESH-INTERVAL;VALUE=DURATION:PT1H
X-Robots-Tag:noindex
X-PUBLISHED-TTL:PT1H
BEGIN:VTIMEZONE
TZID:UTC
BEGIN:STANDARD
TZOFFSETFROM:+0000
TZOFFSETTO:+0000
TZNAME:UTC
DTSTART:20240101T000000
END:STANDARD
END:VTIMEZONE
BEGIN:VEVENT
DTSTART;TZID=UTC:20250829T080000
DTEND;TZID=UTC:20250830T170000
DTSTAMP:20260419T164054
CREATED:20250708T104254Z
LAST-MODIFIED:20250708T105357Z
UID:3815-1756454400-1756573200@msazzadali.com
SUMMARY:The Mind Revolution
DESCRIPTION:The Mind Revolution \n  \nDay 1: Breaking Mental Barriers – Reprogram Your Mind \nIdentifying and dismantling deep-rooted limiting beliefs\, negative thought patterns\, and mental blocks. Introduction to the foundational concepts of neuroscience and NLP (Neuro-Linguistic Programming). Gaining awareness of subconscious programming and begin the process of rewriting of inner narrative through experiential exercises\, guided introspection\, and cognitive reconditioning tools. \n  \nDay 2: Awakening Inner Power – Align with Your Purpose \nDiscovering inner alignment and purpose. Tapping into core values\, passions\, and strengths to ignite authentic motivation and clarity. Techniques like visualization\, emotional state management\, and values elicitation are used to build a personal power framework that supports purpose-driven action. \n  \nDay 3: Mastering Mental Strategies – Create Lasting Change \nIntegrating powerful mental strategies into daily life. Learning high-performance habits\, goal-mapping frameworks\, and mind-hacking techniques for long-term resilience\, focus\, and growth. Having a breakthrough and commitment ritual to anchor the transformation. \nEnroll
URL:https://msazzadali.com/event/the-mind-revolution/
END:VEVENT
END:VCALENDAR